BEGIN:VCALENDAR
VERSION:2.0
BEGIN:VEVENT
CLASS:PUBLIC
CATEGORIES:MEETING
DTSTART;TZID=America/Denver:20130517T200000
DTEND;TZID=America/Denver:20130517T200000
SUMMARY:The Yawpers at Stoney's Bar & Grill
DESCRIPTION:Age Limit: All Ages
LOCATION:Stoney's Bar & Grill - 1111 Lincoln St, Denver, CO, 80203, US
END:VEVENT

END:VCALENDAR
