BEGIN:VCALENDAR
VERSION:2.0
BEGIN:VEVENT
CLASS:PUBLIC
CATEGORIES:MEETING
DTSTART;TZID=America/Denver:20130308T200000
DTEND;TZID=America/Denver:20130308T200000
SUMMARY:cambriah at The Vertical Diner
DESCRIPTION:Price: free music!\nAge Limit: All Ages\n\nDetails: Local eats and tunes. Special Guests abound. See you there!
LOCATION:The Vertical Diner - 2280 SW Temple, Salt Lake City, UT, 84115, US
END:VEVENT

END:VCALENDAR
