BEGIN:VCALENDAR
VERSION:2.0
BEGIN:VEVENT
CLASS:PUBLIC
CATEGORIES:MEETING
DTSTART;TZID=Australia/Sydney:20130307T200000
DTEND;TZID=Australia/Sydney:20130307T200000
SUMMARY:Phreaze at Sapphire Lounge
DESCRIPTION:Age Limit: 18+\n\nDetails: CELEBRATING INTERNATIONAL WOMEN&#39;S DAY WITH AN ALL-FEMALE LINEUP! Lets Get It!!
LOCATION:Sapphire Lounge - 2 Kellett Way, Potts Point, NSW, 2011, AU
END:VEVENT

END:VCALENDAR
