BEGIN:VCALENDAR
VERSION:2.0
BEGIN:VEVENT
CLASS:PUBLIC
CATEGORIES:MEETING
DTSTART;TZID=Australia/Sydney:20130228T235900
DTEND;TZID=Australia/Sydney:20130228T235900
SUMMARY:Phreaze at Sapphire Lounge
DESCRIPTION:Age Limit: 18+\n\nDetails: MORE INFO: http://www.facebook.com/LoudAustralia\n\nMUSIC: RNB &amp; HIP HOP ALLLLLLLL NIGHT (Yes we REALLY mean ALL NIGHT)\n\n▃▃ FREE/DISCOUNTED ENTRY &amp; ARTIST REGISTRATION ▃▃\n\nLOUD@VYVAENTERTAINMENT.COM\nLOUD@VYVAENTERTAINMENT.COM\n\nLIKE US ON FACEBOOK! www.fb.com/LOUDAUSTRALIA\n\n▃▃▃▃▃▃▃▃ WEEKLY DRINK SPECIALS ▃▃▃▃▃▃▃▃\n$5 ALIZE ALLLLL NIGHT!!\n$5 COCKTAILS TILL 12AM\n$5 ALIZE ALLLLL NIGHT!!\n▃▃▃▃▃▃▃▃▃▃▃▃▃▃▃▃▃▃▃▃▃▃▃▃▃▃▃▃▃▃\n\nDJS:\nS-WIZZY - MAGIC MERV - I.K.O - CRAZY CAZ - BLAK AL – LIBRE - TEDDY\nPLUS SPECIAL GUESTS\n▃▃▃▃▃▃▃▃▃▃▃▃▃▃▃▃▃▃▃▃▃▃▃▃▃▃▃▃▃▃\nWHERE: SAPPHIRE LOUNGE\n2 Kellett Street Potts Point NSW 2011\nhttps://www.facebook.com/sapphirelounge.kingscross\n\n▃▃▃▃▃▃▃▃▃▃ COVER CHARGE ▃▃▃▃▃▃▃▃▃▃\nGUESTLIST: FREE B4 9:30PM &amp; $10 TILL 12:00AM\nNORMAL ENTRY: $10 B4 10.30pm &amp; $15 AFTER\n▃▃▃▃▃▃▃▃▃▃▃▃▃▃▃▃▃▃▃▃▃▃▃▃▃▃▃▃▃▃\nSTRICK DRESS CODE: SNEAKERS &amp; HATS ALOUD\nSTRICK DRESS CODE: SNEAKERS &amp; HATS ALOUD\nSTRICK DRESS CODE: SNEAKERS &amp; HATS ALOUD\n\nVYVA ENTERTAINMENT &amp; HUSTLE HARD TELEVISION HAVE COME TOGETHER WITH THE AIM OF SUPPORTING &amp; EXPOSING LOCAL TALENT.
LOCATION:Sapphire Lounge - 2 Kellett Way, Potts Point, NSW, 2011, AU
END:VEVENT

END:VCALENDAR
