BEGIN:VCALENDAR
VERSION:2.0
BEGIN:VEVENT
CLASS:PUBLIC
CATEGORIES:MEETING
DTSTART;TZID=America/Chicago:20130325T200000
DTEND;TZID=America/Chicago:20130325T200000
SUMMARY:Master at Zombies Bar and Live Music Venue
DESCRIPTION:Price: $10 Presale / $12 Day Show\nAge Limit: All Ages\n\nDetails: Bar opens 5pm\nBands start 9pm\n
LOCATION:Zombies Bar and Live Music Venue - 4202 Thousand Oaks Dr, San Antonio, TX, 78217, US
END:VEVENT

END:VCALENDAR
