BEGIN:VCALENDAR
VERSION:2.0
BEGIN:VEVENT
CLASS:PUBLIC
CATEGORIES:MEETING
DTSTART;TZID=Australia/Sydney:20130308T173000
DTEND;TZID=Australia/Sydney:20130308T173000
SUMMARY:Phreaze at Phreaze LIVE @ MC Trey 'Light' Single Launch PARRAMATTA!
DESCRIPTION:Price: FREE\nClick here to buy tickets: http://www.facebook.com/pages/MC-TREY\nAge Limit: All Ages\n\nDetails: Celebrating National Women&#39;s Day. Screening of &#39;Light&#39; by OUFF Films.Live Performances featuring MC Trey Supported by some of Sydney&#39;s Finest Urban and Cultural Artists.\n\nInformation &amp; Cultural Exchange (ICE) 8 Victoria Road Parramatta.\n\nFood &amp; Refreshments. Free All Ages Event. RSVP Essential Facebook MC TREY or ICE on 9897 5744.
LOCATION:Phreaze LIVE @ MC Trey 'Light' Single Launch PARRAMATTA! - ICE 8 Victoria Road, Parramatta, NSW, 2150, AU
END:VEVENT

END:VCALENDAR
