BEGIN:VCALENDAR
VERSION:2.0
BEGIN:VEVENT
CLASS:PUBLIC
CATEGORIES:MEETING
DTSTART;TZID=Europe/Prague:20130307T200000
DTEND;TZID=Europe/Prague:20130307T200000
SUMMARY:TREY ROQUE at Café Na půl cesty
DESCRIPTION:Price: Donations\nClick here to buy tickets: http://www.greendoors.cz/kulturni-program\nAge Limit: 18+\n\nDetails: Trey Roque will be following up on their EP release with a whole lotta roquing.
LOCATION:Café Na půl cesty - Pujmanové 1219/8, Praha 4, 142 00, CZ
END:VEVENT

END:VCALENDAR
