BEGIN:VCALENDAR
VERSION:2.0
BEGIN:VEVENT
CLASS:PUBLIC
CATEGORIES:MEETING
DTSTART;TZID=America/Chicago:20130330T200000
DTEND;TZID=America/Chicago:20130330T200000
SUMMARY:Kyle Reed Band at Jack's Patio Bar
DESCRIPTION:Age Limit: All Ages
LOCATION:Jack's Patio Bar - 2950 Thousand Oaks Dr, San Antonio, TX, 78247, US
END:VEVENT

END:VCALENDAR
