BEGIN:VCALENDAR
VERSION:2.0
BEGIN:VEVENT
CLASS:PUBLIC
CATEGORIES:MEETING
DTSTART;TZID=America/Los_Angeles:20130309T190000
DTEND;TZID=America/Los_Angeles:20130309T190000
SUMMARY:ABRIEL at Chain Reaction
DESCRIPTION:Price: $10.00\nClick here to buy tickets: http://allages.com\nAge Limit: All Ages
LOCATION:Chain Reaction - 1652 W Lincoln Ave, Anaheim, CA, 92802, US
END:VEVENT

END:VCALENDAR
