BEGIN:VCALENDAR
VERSION:2.0
BEGIN:VEVENT
CLASS:PUBLIC
CATEGORIES:MEETING
DTSTART;TZID=America/New_York:20130420T130000
DTEND;TZID=America/New_York:20130420T130000
SUMMARY:WEEP at Rock Out the Violence - Diva's Rock!
DESCRIPTION:Age Limit: All Ages\n\nDetails: APRIL 20TH!! DIVA&#39;S ROCK!! A benefit for Serene Harbor.. DIVAS rocking the front!! The Vibe, Bittersweet, Queen Bees, WEEP, Berna &amp; the Bernouts, Chain Reaction. 
LOCATION:Rock Out the Violence - Diva's Rock! - Wickham Pavilion Next to BCC, Melbourne, 32940, 32940, US
END:VEVENT

END:VCALENDAR
