BEGIN:VCALENDAR
VERSION:2.0
BEGIN:VEVENT
CLASS:PUBLIC
CATEGORIES:MEETING
DTSTART;TZID=Europe/Prague:20130206T190000
DTEND;TZID=Europe/Prague:20130206T190000
SUMMARY:TREY ROQUE at Kavárna Potrvá
DESCRIPTION:Price: Donation\nAge Limit: 18+\n\nDetails: Trey&#39;ll be kicking out the acoustic jams with tunes from the *krest* EP.
LOCATION:Kavárna Potrvá - Srbská 2, Prague 6, 160 00, CZ
END:VEVENT

END:VCALENDAR
