BEGIN:VCALENDAR
VERSION:2.0
BEGIN:VEVENT
CLASS:PUBLIC
CATEGORIES:MEETING
DTSTART;TZID=Europe/London:20130103T200000
DTEND;TZID=Europe/London:20130103T200000
SUMMARY:DFect at RMS Showcase
DESCRIPTION:Price: Free Entry B4 10PM | £5 Thereafter\nAge Limit: 18+\n\nDetails: Rich Music Society Showcasing Independent Artists, Representing Urban Music | DJs Playing Out The Night From Midnight Onwards | January 3rd 2013 @ Thomas A Beckett, Old Kent Road SE1 5UE 8PM-Late | Free Entry B4 10PM (£5 Thereafter) | Over 18&#39;s Only (Must Have ID), No Caps!
LOCATION:RMS Showcase - Thomas A Becket, 320 Old Kent Road, London SE1 5UE, London, SE1 5, UK
END:VEVENT

END:VCALENDAR
