BEGIN:VCALENDAR
VERSION:2.0
BEGIN:VEVENT
CLASS:PUBLIC
CATEGORIES:MEETING
DTSTART:20121222T180000Z
DTEND:20121222T180000Z
SUMMARY:Phreaze at Cyclone Evan Fundraiser @ Logan Gardens
DESCRIPTION:Age Limit: All Ages\n\nDetails: Phreaze performs between 1pm &amp; 2pm but the event runs from 10am til Late! This will be Phreaze&#39;s Final Performance in Brisbane before she relocates back to her Homeland of New Zealand! She will also have her single &#39;Give it to Me&#39; on sale for $5 with $2 from each CD going towards the cause!\nThis event is a Fundraiser for the Samoa Victims of Cyclone Evan so Dig Deep and Support the Cause!\n\nThis is an all ages Family Event filled with Loads of performances from Local Acts, Food Stalls &amp; Much More.\n\nLogan Gardens (aka Police Park) on Civic Parade off Jacaranda Ave, Logan Central/Woodridge Qld 4114.\n\nEnquiries: 0468919033
LOCATION:Cyclone Evan Fundraiser @ Logan Gardens - Jacaranda Ave, Logan Central, QLD, AU
END:VEVENT

END:VCALENDAR
