BEGIN:VCALENDAR
VERSION:2.0
BEGIN:VEVENT
CLASS:PUBLIC
CATEGORIES:MEETING
DTSTART;TZID=America/Santa_Isabel:20121221T200000
DTEND;TZID=America/Santa_Isabel:20121221T200000
SUMMARY:Zipolite Beach Billies at Livelula Bar
DESCRIPTION:Price: Gratis\nAge Limit: All Ages\n\nDetails: la fiesta &quot;Principio del Nuevo Mundo&quot; w/ ZBB
LOCATION:Livelula Bar - Colonia Roca Blanca, Playa Zipolite, MX
END:VEVENT

END:VCALENDAR
