BEGIN:VCALENDAR
VERSION:2.0
BEGIN:VEVENT
CLASS:PUBLIC
CATEGORIES:MEETING
DTSTART;TZID=America/Los_Angeles:20130111T203000
DTEND;TZID=America/Los_Angeles:20130111T203000
SUMMARY:Gunsafe at The  Plough and Stars Irish Pub
DESCRIPTION:Price: $6-$10 sliding scale\nClick here to buy tickets: http://www.theploughandstars.com/\nAge Limit: 21+
LOCATION:The  Plough and Stars Irish Pub - 116 Clement St, San Francisco, CA, 94118, US
END:VEVENT

END:VCALENDAR
