BEGIN:VCALENDAR
VERSION:2.0
BEGIN:VEVENT
CLASS:PUBLIC
CATEGORIES:MEETING
DTSTART;TZID=America/Los_Angeles:20121230T120000
DTEND;TZID=America/Los_Angeles:20121230T120000
SUMMARY:SoVoSo at First Congregational Church of Oakland
DESCRIPTION:Price: Donations warmly welcomed - community event!\nClick here to buy tickets: http://www.circlesing.net\nAge Limit: All Ages\n\nDetails:  annual SINGING FOR YOUR LIFE EVENT!\n12 HOURS OF CONTINUOUS CIRCLESINGING LED BY MEMBERS OF SOVOSO AND OTHER GUEST LEADERS TBA...
LOCATION:First Congregational Church of Oakland - 2501 Harrison St, Oakland, CA, 94610, US
END:VEVENT

END:VCALENDAR
