BEGIN:VCALENDAR
VERSION:2.0
BEGIN:VEVENT
CLASS:PUBLIC
CATEGORIES:MEETING
DTSTART;TZID=Pacific/Auckland:20121026T200000
DTEND;TZID=Pacific/Auckland:20121026T200000
SUMMARY:Phreaze at Brewers Bar
DESCRIPTION:Price: $10\nClick here to buy tickets: http://www.iticket.co.nz/events/2012/oct/hip-hop-halloween\nAge Limit: 18+\n\nDetails: PROUDLY SUPPORTED BY MAI FM TAURANGA 96.6FM\n\nHalloween Costume Party with LIVE Hip Hop Performances!\n+ FREE Phreaze CD at the Door with Every iTicket!\n\nTickets on sale NOW - get yours before they sell out!!\n$10 (INCLUDING BOOKING FEE!!):\nPAY BY CREDIT CARD: http://www.iticket.co.nz/events/2012/oct/hip-hop-halloween\nPAY AT POST OFFICE: Phone: (09) 361 1000 or 0508 iTICKET (outside Auckland)\n\nNote: No doorsales if tickets sell out before the event so secure yours at the link/phone number above now!!!\n...........................\nHailing all the way from Australia&#39;s Queensland, Maori girls Phreaze &amp; DJ Dzyr are bringing you a HIP HOP HALLOWEEN to remember!\n\nNot only will the night be filled with ghosts, ghouls, vampires and other dark creatures of the night, but you will also be trick or treated with a MASSIVE lineup of LIVE performances by Hip Hop Acts:\n\nLADYWISE (AUS) // QUEEN SHIRL&#39;E (AKL) // FRANTIK (AKL) // KOMA (4 CORNERS) ft SLIP OF THE TONGUE and DJ IMPACT (H TOWN), BJIZIL (AKL), ENVIOSO (AKL) and of course PHREAZE ft DJ DZYR (AUS)!\n\nPLUS all iticket holders can pick up a FREE PHREAZE CD at the door AND there will also be a FREE Photobooth for all punters on the night!\n\nBUT WAIT.. THERES MORE!! On top of ALL of this, there will be prizes for BEST COSTUME and plenty of GIVEAWAYS throughout the night!\n.............................\nBREWERS BAR: 107 NEWTON STREET MT MAUNGANUI\nSTARTS: 8PM\n18+ ID REQUIRED\n\nCome Get Your Boogieman on &amp; Support Local Hip Hop while you&#39;re at it!!!\n\nGET PHREAZE&#39;S NEW TRACK &#39;GIVE IT TO ME&#39; ON ITUNES NOW! http://itunes.apple.com/au/album/give-it-to-me-single/id564506429\n\nwww.Phreaze.com for more info! 
LOCATION:Brewers Bar - Mount Maunganui, NZ
END:VEVENT

END:VCALENDAR
