BEGIN:VCALENDAR
VERSION:2.0
BEGIN:VEVENT
CLASS:PUBLIC
CATEGORIES:MEETING
DTSTART;TZID=Pacific/Auckland:20121102T220000
DTEND;TZID=Pacific/Auckland:20121102T220000
SUMMARY:Phreaze at Stampede Bar
DESCRIPTION:Price: $5\nAge Limit: All Ages\n\nDetails: PHREAZE ft DJ DZYR will perform a set at the upcomming THE SKYS THE LIMIT SHOWCASE alongside a PHAT lineup of Hip Hop &amp; RnB in Papakura&#39;s STAMPEDE BAR (238 Great South Road, Papakura)!\nDoors Open 10pm (18+ Event)\nOnly $5 Entry at the Door!
LOCATION:Stampede Bar - 238 Great South Rd, Auckland, 1062, NZ
END:VEVENT

END:VCALENDAR
