BEGIN:VCALENDAR
VERSION:2.0
BEGIN:VEVENT
CLASS:PUBLIC
CATEGORIES:MEETING
DTSTART;TZID=Europe/Berlin:20120922T203000
DTEND;TZID=Europe/Berlin:20120922T203000
SUMMARY:Phreaze at The Zoo
DESCRIPTION:Click here to buy tickets: http://thezoo.com.au\nAge Limit: 18+\n\nDetails: Phreaze to support Melbourne&#39;s TZU at THE ZOO!!\n\n711 Ann Street, Fortitude Valley\nTickets from Venue!
LOCATION:The Zoo - 711 Ann St, Fortitude Valley, QLD, 4006, AU
END:VEVENT

END:VCALENDAR
