BEGIN:VCALENDAR
VERSION:2.0
BEGIN:VEVENT
CLASS:PUBLIC
CATEGORIES:MEETING
DTSTART;TZID=Australia/Brisbane:20120926T180000
DTEND;TZID=Australia/Brisbane:20120926T180000
SUMMARY:Phreaze at Coolangatta Hotel, GOLD COAST
DESCRIPTION:Price: $40 + BF\nClick here to buy tickets: http://tickets.oztix.com.au/?Event=29190&amp;utm_medium=Website&amp;utm_source=OzTix&amp;utm_content=GigGuide&amp;utm_term=WERD%20OF%20MOUTH__\nAge Limit: 18+\n\nDetails: Phreaze &amp; DJ Dzyr will perform a set plus there&#39;ll be HEAPS more LIVE Hip Hop // LIVE Street Art // Open Mic // BBQ + More!!\n\n$40 + BF for General Admission or $150+ BF for VIP (includes meet n greet etc).\n\nDoors Open 6pm. Tickets from www.oztix.com.au or venue.\n\nCOOLANGATTA HOTEL (Cnr Warner St &amp; Marine Parade, Coolangatta).\n\n\n
LOCATION:Coolangatta Hotel, GOLD COAST - Marine Parade, Coolangatta (07) 55 369 311, Gold Coast, QLD, 4225, AU
END:VEVENT

END:VCALENDAR
