BEGIN:VCALENDAR
VERSION:2.0
BEGIN:VEVENT
CLASS:PUBLIC
CATEGORIES:MEETING
DTSTART;TZID=America/Denver:20130824T200000
DTEND;TZID=America/Denver:20130824T200000
SUMMARY:Nell Robinson & Jim Nunally at Coyote Creek Concerts
DESCRIPTION:Price: $12\nClick here to buy tickets: http://coyotecreekconcerts.com\nAge Limit: All Ages\n\nDetails: More details later!
LOCATION:Coyote Creek Concerts - 4189 Hwy 86, Elizabeth, CO, 80107, US
END:VEVENT

END:VCALENDAR
