BEGIN:VCALENDAR
VERSION:2.0
BEGIN:VEVENT
CLASS:PUBLIC
CATEGORIES:MEETING
DTSTART;TZID=America/Chicago:20121009T200000
DTEND;TZID=America/Chicago:20121009T200000
SUMMARY:Another Lost Year at The Rutledge
DESCRIPTION:Price: $7.00\nAge Limit: 21+\n\nDetails: The Hang&#39;em High Tour starring Wayland with Another Lost Year is rolling through.  \nSpecial Guest: The Campaign 1984
LOCATION:The Rutledge - 410 4th Ave S, Nashville, TN, 37201, US
END:VEVENT

END:VCALENDAR
