BEGIN:VCALENDAR
VERSION:2.0
BEGIN:VEVENT
CLASS:PUBLIC
CATEGORIES:MEETING
DTSTART;TZID=Europe/Prague:20120901T200000
DTEND;TZID=Europe/Prague:20120901T200000
SUMMARY:TREY ROQUE at Chapeau Rouge
DESCRIPTION:Price: 100CZK\nClick here to buy tickets: http://www.chapeaurouge.cz/program/vse/11-2012/#dnes\nAge Limit: 18+\n\nDetails: Trey Roque will be kickin out the jams, and showing the youth how roque is really done. Tickets on door only. See you there!
LOCATION:Chapeau Rouge - Jakubská 647/2, Prague, 110 00, CZ
END:VEVENT

END:VCALENDAR
