BEGIN:VCALENDAR
VERSION:2.0
BEGIN:VEVENT
CLASS:PUBLIC
CATEGORIES:MEETING
DTSTART:20120909T140000Z
DTEND:20120909T140000Z
SUMMARY:Phreaze at Hip Hop Gateway @ Scream Ahead Studios
DESCRIPTION:Price: $15\nAge Limit: All Ages\n\nDetails: Phreaze, DJ Dzyr, Urban Prophetz, Rythmic, B Sharp, Likwid Eyece, CPG and HEAPS more!!! A whole day of Local Hip Hop Baby!!! Come down and check it out! If you like the Facebook Event page as well, you will get a discounted $10 entry too!! Jump on it!! 
LOCATION:Hip Hop Gateway @ Scream Ahead Studios - 47 Bunya Street, Eagle Farm, QLD, AU
END:VEVENT

END:VCALENDAR
