BEGIN:VCALENDAR
VERSION:2.0
BEGIN:VEVENT
CLASS:PUBLIC
CATEGORIES:MEETING
DTSTART;TZID=America/Chicago:20120929T220000
DTEND;TZID=America/Chicago:20120929T220000
SUMMARY:Ingrid Gerdes at Irvin Mayfield's I Club @ JW Marriott
DESCRIPTION:Age Limit: 21+\n\nDetails: Showcase during Cutting Edge Music Conference \nPlay time 11-11:45pm Come on out for some Soul/Blues!
LOCATION:Irvin Mayfield's I Club @ JW Marriott - 614 Canal St, New Orleans, LA, 70130, US
END:VEVENT

END:VCALENDAR
