BEGIN:VCALENDAR
VERSION:2.0
BEGIN:VEVENT
CLASS:PUBLIC
CATEGORIES:MEETING
DTSTART;TZID=Australia/Brisbane:20120901T120000
DTEND;TZID=Australia/Brisbane:20120901T120000
SUMMARY:Phreaze at Celebrate Pasifika @ Evan Marginson Park
DESCRIPTION:Price: Free\nAge Limit: All Ages\n\nDetails: Phreaze will be performing a 15min Solo set from her upcoming Gravity album and will also be performing a 15 min set with Urban Prophetz as well! Awesome day out for the fan bams! Come on out and CELEBRATE PASIFIKA!!
LOCATION:Celebrate Pasifika @ Evan Marginson Park - Woogaroo Street, Goodna, QLD, AU
END:VEVENT

END:VCALENDAR
