BEGIN:VCALENDAR
VERSION:2.0
BEGIN:VEVENT
CLASS:PUBLIC
CATEGORIES:MEETING
DTSTART;TZID=America/New_York:20120831T220000
DTEND;TZID=America/New_York:20120831T220000
SUMMARY:Rachel Goodrich at The Stage
DESCRIPTION:Price: $10\nAge Limit: 21+
LOCATION:The Stage - 170 NE 38th St, Miami, FL, 33137, US
END:VEVENT

END:VCALENDAR
