BEGIN:VCALENDAR
VERSION:2.0
BEGIN:VEVENT
CLASS:PUBLIC
CATEGORIES:MEETING
DTSTART;TZID=Europe/Prague:20120822T200000
DTEND;TZID=Europe/Prague:20120822T200000
SUMMARY:TREY ROQUE at Hard Rock Cafe Prague
DESCRIPTION:Price: Free!\nClick here to buy tickets: http://www.hardrock.com/locations/cafes3/events.aspx?LocationID=492&amp;MIBenumID=3\nAge Limit: All Ages\n\nDetails: We&#39;ll be roquin&#39; it as ever – with a different set to the previous week. Come on, come over!
LOCATION:Hard Rock Cafe Prague - Malé náměstí 142/3, Praha, 110 00, CZ
END:VEVENT

END:VCALENDAR
