BEGIN:VCALENDAR
VERSION:2.0
BEGIN:VEVENT
CLASS:PUBLIC
CATEGORIES:MEETING
DTSTART;TZID=Europe/Prague:20120816T210000
DTEND;TZID=Europe/Prague:20120816T210000
SUMMARY:TREY ROQUE at Belushi's at Mosaic House
DESCRIPTION:Price: Free\nAge Limit: 18+\n\nDetails: Belushi&#39;s has a lively atmosphere and a killer burger. And what better to aid the digestion than a 2-hour set by Trey Roque? Hm?
LOCATION:Belushi's at Mosaic House - Odborů 278/4, Prague, 120 00, CZ
END:VEVENT

END:VCALENDAR
