BEGIN:VCALENDAR
VERSION:2.0
BEGIN:VEVENT
CLASS:PUBLIC
CATEGORIES:MEETING
DTSTART;TZID=America/New_York:20120808T220000
DTEND;TZID=America/New_York:20120808T220000
SUMMARY:Krisp at The Stage
DESCRIPTION:Age Limit: 21+\n\nDetails: Doors 10 p.m. | $5 Cover 21+ / $10 Cover 18+
LOCATION:The Stage - 170 NE 38th St, Miami, FL, 33137, US
END:VEVENT

END:VCALENDAR
