BEGIN:VCALENDAR
VERSION:2.0
BEGIN:VEVENT
CLASS:PUBLIC
CATEGORIES:MEETING
DTSTART;TZID=America/New_York:20120728T220000
DTEND;TZID=America/New_York:20120728T220000
SUMMARY:Beatmachines at The Stage
DESCRIPTION:Age Limit: 21+
LOCATION:The Stage - 170 NE 38th St, Miami, FL, 33137, US
END:VEVENT

END:VCALENDAR
