BEGIN:VCALENDAR
VERSION:2.0
BEGIN:VEVENT
CLASS:PUBLIC
CATEGORIES:MEETING
DTSTART;TZID=America/Chicago:20120804T210000
DTEND;TZID=America/Chicago:20120804T210000
SUMMARY:Jason West And West Of The Trinity Band at Bob-N-Jeans
DESCRIPTION:Age Limit: 18+ or w/ adult\n\nDetails: This is our frist time out at Bob N Jeans come on out and help us out its Party Time!!!
LOCATION:Bob-N-Jeans - 4700 FM 1942, Crosby, TEXAS, 77532, US
END:VEVENT

END:VCALENDAR
