BEGIN:VCALENDAR
VERSION:2.0
BEGIN:VEVENT
CLASS:PUBLIC
CATEGORIES:MEETING
DTSTART;TZID=America/New_York:20120619T200000
DTEND;TZID=America/New_York:20120619T200000
SUMMARY:Michele Dennis at MS Rascals Loony Bin
DESCRIPTION:Age Limit: 21+\n\nDetails: Michele aka Tinkerchele will be competing in the Local Finals for a chance to compete in Regional&#39;s for the Karaoke King Competition on Tuesday June 19th at Ms Rascals Looney Bin. Come on out and show your girl some love!
LOCATION:MS Rascals Loony Bin - 1182 Tamiami Trail, Port Charlotte, FL, 33954, US
END:VEVENT

END:VCALENDAR
