BEGIN:VCALENDAR
VERSION:2.0
BEGIN:VEVENT
CLASS:PUBLIC
CATEGORIES:MEETING
DTSTART;TZID=America/Chicago:20120614T200000
DTEND;TZID=America/Chicago:20120614T200000
SUMMARY:Chris W. Long at Blue Bird Writers Night
DESCRIPTION:Price: Free\nAge Limit: All Ages\n\nDetails: No scheduled shows at this time.
LOCATION:Blue Bird Writers Night - 4010 Hillsboro Pike, Nashville, TN, 37215, US
END:VEVENT

END:VCALENDAR
