BEGIN:VCALENDAR
VERSION:2.0
BEGIN:VEVENT
CLASS:PUBLIC
CATEGORIES:MEETING
DTSTART;TZID=America/New_York:20120713T200000
DTEND;TZID=America/New_York:20120713T200000
SUMMARY:Bitter Paradox at Cafe Hey
DESCRIPTION:Price: FREE\nAge Limit: All Ages\n\nDetails: Open Mic Night
LOCATION:Cafe Hey - 1540 N Franklin St, Tampa, FL, 33602, US
END:VEVENT

END:VCALENDAR
