BEGIN:VCALENDAR
VERSION:2.0
BEGIN:VEVENT
CLASS:PUBLIC
CATEGORIES:MEETING
DTSTART;TZID=America/New_York:20120703T220000
DTEND;TZID=America/New_York:20120703T220000
SUMMARY:Flow Tribe at The Stage
DESCRIPTION:Price: $5 21+ $10 18+\nAge Limit: 18+
LOCATION:The Stage - 170 NE 38th St, Miami, FL, 33137, US
END:VEVENT

END:VCALENDAR
