BEGIN:VCALENDAR
VERSION:2.0
BEGIN:VEVENT
CLASS:PUBLIC
CATEGORIES:MEETING
DTSTART;TZID=America/Toronto:20120704T170000
DTEND;TZID=America/Toronto:20120704T170000
SUMMARY:Draken at El Mocambo
DESCRIPTION:Price: $10 advanced, $15 at the door.\nAge Limit: All Ages
LOCATION:El Mocambo - Toronto, CA
END:VEVENT

END:VCALENDAR
