BEGIN:VCALENDAR
VERSION:2.0
BEGIN:VEVENT
CLASS:PUBLIC
CATEGORIES:MEETING
DTSTART;TZID=America/New_York:20120615T200000
DTEND;TZID=America/New_York:20120615T200000
SUMMARY:EAT THE TURNBUCKLE at The M Room
DESCRIPTION:Age Limit: All Ages
LOCATION:The M Room - 15 W Girard Ave, Philadelphia, PA, 19125, US
END:VEVENT

END:VCALENDAR
