BEGIN:VCALENDAR
VERSION:2.0
BEGIN:VEVENT
CLASS:PUBLIC
CATEGORIES:MEETING
DTSTART;TZID=Australia/Brisbane:20120507T100000
DTEND;TZID=Australia/Brisbane:20120507T100000
SUMMARY:Phreaze at Pasifika Vibes Festival @ Deception Bay
DESCRIPTION:Age Limit: All Ages\n\nDetails: See http://www.pasifikavibesfestival.com for more info!
LOCATION:Pasifika Vibes Festival @ Deception Bay - Zammit Street Oval, Deception Bay, QLD, AU
END:VEVENT

END:VCALENDAR
