BEGIN:VCALENDAR
VERSION:2.0
BEGIN:VEVENT
CLASS:PUBLIC
CATEGORIES:MEETING
DTSTART;TZID=Australia/Brisbane:20120916T100000
DTEND;TZID=Australia/Brisbane:20120916T100000
SUMMARY:Phreaze at Gold Coast Multicultural Festival @ Evandale Parklands
DESCRIPTION:Age Limit: All Ages\n\nDetails: The 2011 Gold Coast Multicultural Festival was once again a great success, with the Minister for Multicultural Affairs designating it as an &#39;Iconic Queensland Event&#39;. 2012 will be our 5th year of celebrating our City&#39;s Cultural Diversity! See http://www.goldcoastculturalfestival.org/ for more info!
LOCATION:Gold Coast Multicultural Festival @ Evandale Parklands - Cnr. Crombie Avenue & Bundall Road, Bundall, QLD, AU
END:VEVENT

END:VCALENDAR
