BEGIN:VCALENDAR
VERSION:2.0
BEGIN:VEVENT
CLASS:PUBLIC
CATEGORIES:MEETING
DTSTART;TZID=Africa/Johannesburg:20120420T200000
DTEND;TZID=Africa/Johannesburg:20120420T200000
SUMMARY:Boo! at Arcade Empire
DESCRIPTION:Price: Online - R50 Door - R60\nClick here to buy tickets: http://www.ticketbreak.co.za\nAge Limit: All Ages\n\nDetails: 	ITS A BIG ONE PEOPLE!\n\nBoo! is one of SA&#39;s top acts and always give an astounding live performance!\nWith Chris Chameleons&#39; costumes and magnifisent singing, Boo! will keep you on your tippy toes and have you screaming for more!\n\nThe show will take place just upon Boo!&#39;s return from their tour to the Netherlands in March!!!! \n\nSupporting this amazing group on the night will be the very impressive Yesterday&#39;s Pupil! With part 4 of his second album just being released, you can only imagine the fresh and funky music you will experience! He is truly a master at what he does! \nAnd to complete this amazing line-up, joining them will be Future Life (previously known as The Nathan Smith Project) and Vampire 9000! Its going to be a night full of surprises!\n
LOCATION:Arcade Empire - c/o Hans Strijdom and N4 Highway, Pretoria, GP, ZA
END:VEVENT

END:VCALENDAR
