BEGIN:VCALENDAR
VERSION:2.0
BEGIN:VEVENT
CLASS:PUBLIC
CATEGORIES:MEETING
DTSTART;TZID=Australia/Brisbane:20120407T120000
DTEND;TZID=Australia/Brisbane:20120407T120000
SUMMARY:Phreaze at St Johns Anglican College
DESCRIPTION:Age Limit: All Ages\n\nDetails: Urban Prophetz perform at 12.30pm.. come down and support if you&#39;re in the hood!!
LOCATION:St Johns Anglican College - College Avenue, Forrest Lake, QLD, 4257, AU
END:VEVENT

END:VCALENDAR
