BEGIN:VCALENDAR
VERSION:2.0
BEGIN:VEVENT
CLASS:PUBLIC
CATEGORIES:MEETING
DTSTART;TZID=Australia/Brisbane:20120525T200000
DTEND;TZID=Australia/Brisbane:20120525T200000
SUMMARY:Phreaze at Runcorn State High School
DESCRIPTION:Price: TBA\nAge Limit: All Ages\n\nDetails: More info comming soon...
LOCATION:Runcorn State High School - 132 Hill Road, Runcorn, QLD, 4113, AU
END:VEVENT

END:VCALENDAR
