BEGIN:VCALENDAR
VERSION:2.0
BEGIN:VEVENT
CLASS:PUBLIC
CATEGORIES:MEETING
DTSTART;TZID=Australia/Brisbane:20120505T180000
DTEND;TZID=Australia/Brisbane:20120505T180000
SUMMARY:Phreaze at Logan Diggers
DESCRIPTION:Price: TBA\nAge Limit: All Ages\n\nDetails: FOUR WINDS BENEFIT CONCERT featuring performances by URBAN PROPHETZ, F4RAI, MYSTIK SOUL + KAPAHAKA! Come down and support!
LOCATION:Logan Diggers - 44 Blackwood Rd, Woodridge, QLD, 4114, AU
END:VEVENT

END:VCALENDAR
