BEGIN:VCALENDAR
VERSION:2.0
BEGIN:VEVENT
CLASS:PUBLIC
CATEGORIES:MEETING
DTSTART;TZID=America/New_York:20120623T090000
DTEND;TZID=America/New_York:20120623T090000
SUMMARY:The Brew at Harry Browns Farm-The Hill
DESCRIPTION:Price: Weekend tickets $60 online advance; $70 Box Office\nClick here to buy tickets: http://harrybrownsfarm.ticketbud.com/harrys-hoe-down\nAge Limit: 18+ or w/ adult\n\nDetails: Harry&#39;s Hoe Down\nCome Home to The Hill\nRally for Marijuana Liberation\nMusic, Camping, Live Art, Friends &amp; Family
LOCATION:Harry Browns Farm-The Hill - 45 Abijah Hill Road, Anson, ME, 04911, US
END:VEVENT

END:VCALENDAR
