BEGIN:VCALENDAR
VERSION:2.0
BEGIN:VEVENT
CLASS:PUBLIC
CATEGORIES:MEETING
DTSTART;TZID=Europe/London:20120209T200000
DTEND;TZID=Europe/London:20120209T200000
SUMMARY:Abandoned Stars at Teviot Underground
DESCRIPTION:Price: Free\nAge Limit: 18+\n\nDetails: An evening of Progressive rock/metal featuring Abandoned Stars playing the whole of the EP &#39;Opening Act&#39; for the first time!!
LOCATION:Teviot Underground - 13 Bristo Square, Edinburgh, LOTHI, EH8 9AJ, UK
END:VEVENT

END:VCALENDAR
