BEGIN:VCALENDAR
VERSION:2.0
BEGIN:VEVENT
CLASS:PUBLIC
CATEGORIES:MEETING
DTSTART;TZID=America/Chicago:20120303T210000
DTEND;TZID=America/Chicago:20120303T210000
SUMMARY:The Neverly Brothers at The Lodge on the Fox
DESCRIPTION:Price: $8\nClick here to buy tickets: http://Purchase at the door\nAge Limit: 21+\n\nDetails: Right after the Annual Batavia Beer Pub Crawl, we will be rockin&#39; the house with The Neverly Brothers! $8 cover but tons of drink specials!!! Tell your friends that The Lodge on the Fox is the place to be on March 3rd!
LOCATION:The Lodge on the Fox - 35 N Water St, Batavia, IL, 60510, US
END:VEVENT

END:VCALENDAR
