BEGIN:VCALENDAR
VERSION:2.0
BEGIN:VEVENT
CLASS:PUBLIC
CATEGORIES:MEETING
DTSTART;TZID=Australia/Brisbane:20120317T110000
DTEND;TZID=Australia/Brisbane:20120317T110000
SUMMARY:Phreaze at Harmony Day Festival @ Multicap
DESCRIPTION:Price: $5\nAge Limit: All Ages\n\nDetails: Stalls, Entertainment and more celebrating multicultural harmony!
LOCATION:Harmony Day Festival @ Multicap - 269 Padstow Road, Eight Mile Plains, QLD, 4113, AU
END:VEVENT

END:VCALENDAR
