BEGIN:VCALENDAR
VERSION:2.0
BEGIN:VEVENT
CLASS:PUBLIC
CATEGORIES:MEETING
DTSTART;TZID=Australia/Brisbane:20120204T090000
DTEND;TZID=Australia/Brisbane:20120204T090000
SUMMARY:Phreaze at Kingston Butter Factory
DESCRIPTION:Price: $10\nAge Limit: All Ages\n\nDetails: Live Performances by URBAN PROPHETZ // BIG WILLY JAMES // CONSCIOUS JURY // THE JACKSONS // F4R AI // TE TUTAKITANGI ROOPU // TE TAU MAURI // TURANGA AKE // DESTINY CHURCH MOVEMENT and more!!\n\n+ STALLS, HANGI, KAIMOANA, REWANA &amp; FRIED BREAD, KIDS RIDES, CULTURAL ARTS &amp; CRAFTS AND HEAPS MORE!!!\n\n$10 Entry - PENSIONERS &amp; UNDER 12 FREE!!\n\nUrban Prophetz Perform 9.30am at this one!! Set your alarms!!haha
LOCATION:Kingston Butter Factory - 200 Jacaranda Ave, Brisbane Qld, AU
END:VEVENT

END:VCALENDAR
