BEGIN:VCALENDAR
VERSION:2.0
BEGIN:VEVENT
CLASS:PUBLIC
CATEGORIES:MEETING
DTSTART;TZID=Australia/Brisbane:20120204T090000
DTEND;TZID=Australia/Brisbane:20120204T090000
SUMMARY:Phreaze at Southport Parklands
DESCRIPTION:Price: $10\nAge Limit: All Ages\n\nDetails: URBAN PROPHETZ 2PM!!\nCatch DJ SERGE on the One&#39;s &amp; Two&#39;s ALL DAY LONG!! YAYER!!\n\nHangi, Traditional Maori Cultural Performance, Kiwi Entertainers, Kiwi Games, Maori Clinics and Stalls (Tumeke Square).\n\n... All welcome to share what Waitangi Day is to New Zealanders living on the Gold Coast, &quot;A Family Day Picnic&quot;\n\nPowhiri: 9.15am\nEvent: 9am-8pm\n\nCost: Entry $10, 12 Years and Under Free Student ID Required\n\nStrictly No Alcohol Permitted, Chilly Bins Welcome, No Dogs Allowed\n\nFor More event info please visit the official site: http://www.ngatamaoteao.com/
LOCATION:Southport Parklands - Southport Parklands, Gold Coast, QLD, AU
END:VEVENT

END:VCALENDAR
